BEGIN:VCALENDAR
VERSION:2.0
PRODID:-//Survivorship Care Information - ECPv6.15.20//NONSGML v1.0//EN
CALSCALE:GREGORIAN
METHOD:PUBLISH
X-WR-CALNAME:Survivorship Care Information
X-ORIGINAL-URL:https://cancersurvivorshipcare.org
X-WR-CALDESC:Events for Survivorship Care Information
REFRESH-INTERVAL;VALUE=DURATION:PT1H
X-Robots-Tag:noindex
X-PUBLISHED-TTL:PT1H
BEGIN:VTIMEZONE
TZID:UTC
BEGIN:STANDARD
TZOFFSETFROM:+0000
TZOFFSETTO:+0000
TZNAME:UTC
DTSTART:20240101T000000
END:STANDARD
END:VTIMEZONE
BEGIN:VEVENT
DTSTART;TZID=UTC:20251120T100000
DTEND;TZID=UTC:20251120T230000
DTSTAMP:20260422T145438
CREATED:20250208T071119Z
LAST-MODIFIED:20250218T060526Z
UID:1589-1763632800-1763679600@cancersurvivorshipcare.org
SUMMARY:Navigating Grief After a Cancer Diagnosis
DESCRIPTION:Location: Aspirus Cancer Care-Wausau \n215 N 28th Ave. \nWausau\, WI 54401 \nOR  \n      Virtually via Microsoft Teams  \nCost: FREE  \nWhat You’ll Experience: \n\nInsights into the differences between grief and mourning.\nGuidance on managing feelings of loss and navigating unexpected life changes.\nPractical tools for self-care and finding support during the grieving process.\n\n  \nWho Should Attend? \nThis talk is designed for cancer patients and their loved ones coping with grief related to a cancer diagnosis and its impact on their lives. \nLed by: Amy Kitsemble CSW. Med FT \n  \nAttending In-Person \nIn-Person event takes place at Aspirus Cancer Care-Wausau\, 215 N 28th Ave. Wausau\, WI 54401. Event will begin at 10AM. Please park in cancer center parking lot. Signs will be placed just inside the cancer center entrance to guide you to the conference room. If you have questions\, please stop at the front desk for directions. \n  \nAttending Virtually \nAfter registration\, you will receive an e-mail confirmation with the Microsoft Teams meeting link. Please refer to directions below. \n  \nAccessing Microsoft Teams (if attending virtually) \n\n Check your e-mail address for registration confirmation\n Find the workshop invitation email and select “Join Meeting Now”\n Select “Continue on this browser”\n Select “Join now”\n\n 
URL:https://cancersurvivorshipcare.org/event/navigating-grief-after-a-cancer-diagnosis/
LOCATION:Aspirus Cancer Care-Wausau        215 N 28th Ave.        Wausau\, WI 54401\, 215 N 28th Ave.Wausau\, WI 54401\, Aspirus Cancer Care-Wausau
END:VEVENT
BEGIN:VEVENT
DTSTART;TZID=UTC:20250925T100000
DTEND;TZID=UTC:20250925T110000
DTSTAMP:20260422T145438
CREATED:20250208T070409Z
LAST-MODIFIED:20250218T060605Z
UID:1586-1758794400-1758798000@cancersurvivorshipcare.org
SUMMARY:Sexuality and Intimacy After a Cancer Diagnosis
DESCRIPTION:Location: Aspirus Cancer Care-Wausau \n215 N 28th Ave.Wausau\, WI 54401 \nOR  \n    Virtually via Microsoft Teams  \nCost: FREE  \nWhat You’ll Experience: \n\nInformation on how cancer treatment can impact sexuality and intimacy.\nPractical strategies for addressing common challenges and rebuilding connections.\nAdvice on communication and resources to support your journey.\n\nWho Should Attend? \nThis talk is designed for cancer patients and their partners seeking guidance on navigating changes in sexuality and intimacy after a diagnosis. \nLed by: Summer Verg BSRT(T)\, Cancer Survivorship Coordinator \nAttending In-Person \nIn-Person event takes place at Aspirus Cancer Care-Wausau\, 215 N 28th Ave. Wausau\, WI 54401. Event will begin at 10AM. Please park in cancer center parking lot. Signs will be placed just inside the cancer center entrance to guide you to the conference room. If you have questions\, please stop at the front desk for directions. \nAttending Virtually \nAfter registration\, you will receive an e-mail confirmation with the Microsoft Teams meeting link. Please refer to directions below. \nAccessing Microsoft Teams (if attending virtually) \n\n Check your e-mail address for registration confirmation\n Find the workshop invitation email and select “Join Meeting Now”\n Select “Continue on this browser”\n Select “Join now”
URL:https://cancersurvivorshipcare.org/event/sexuality-and-intimacy-after-a-cancer-diagnosis/
LOCATION:Aspirus Cancer Care-Wausau        215 N 28th Ave.        Wausau\, WI 54401\, 215 N 28th Ave.Wausau\, WI 54401\, Aspirus Cancer Care-Wausau
END:VEVENT
BEGIN:VEVENT
DTSTART;TZID=UTC:20250731T100000
DTEND;TZID=UTC:20250731T100000
DTSTAMP:20260422T145438
CREATED:20250208T065634Z
LAST-MODIFIED:20250218T060623Z
UID:1582-1753956000-1753956000@cancersurvivorshipcare.org
SUMMARY:Nutrition After Cancer Treatment
DESCRIPTION:Cost: FREE  \nWhat You’ll Experience: \n\nGuidance from a dietitian on rebuilding your diet after cancer treatment.\nTips for maintaining a healthy weight and supporting long-term recovery.\nPractical advice on incorporating balanced nutrition into your daily life.\n\nWho Should Attend? \nThis talk is designed for cancer survivors and their loved ones seeking to optimize nutrition after treatment. \nLed by: Lisa Prell\, Registered Dietitian \nAttending In-Person \nIn-Person event takes place at Aspirus Cancer Care-Wausau\, 215 N 28th Ave. Wausau\, WI 54401. Event will begin at 10AM. Please park in cancer center parking lot. Signs will be placed just inside the cancer center entrance to guide you to the conference room. If you have questions\, please stop at the front desk for directions. \nAttending Virtually \nAfter registration\, you will receive an e-mail confirmation with the Microsoft Teams meeting link. Please refer to directions below. \nAccessing Microsoft Teams (if attending virtually) \n\n Check your e-mail address for registration confirmation\n Find the workshop invitation email and select “Join Meeting Now”\n Select “Continue on this browser”\n Select “Join now”
URL:https://cancersurvivorshipcare.org/event/nutrition-after-cancer-treatment/
LOCATION:Aspirus Cancer Care-Wausau        215 N 28th Ave.        Wausau\, WI 54401\, 215 N 28th Ave.Wausau\, WI 54401\, Aspirus Cancer Care-Wausau
END:VEVENT
BEGIN:VEVENT
DTSTART;TZID=UTC:20250626T080000
DTEND;TZID=UTC:20250626T170000
DTSTAMP:20260422T145438
CREATED:20250208T065248Z
LAST-MODIFIED:20250218T060641Z
UID:1579-1750924800-1750957200@cancersurvivorshipcare.org
SUMMARY:Survivorship Essentials: Fitness\, Nutrition and Meditation
DESCRIPTION:Cost: FREE  \nWhat You’ll Experience:  \n\nIntroduction to the field of survivorship\n\n\nInsights on rebuilding strength and staying active after treatment and the LiveStrong program through the YMCA.\nGuidance from a dietitian on the basics of balanced nutrition for survivorship.\nGuided meditation techniques to reduce stress and promote mindfulness.\nClass will be followed by time for participants to ask questions and seek resources from various community organizations.\n\nWho Should Attend?  \nThis class is designed for cancer patients and their loved ones seeking practical tools to enhance physical\, emotional\, and nutritional well-being during and after treatment. \nLed by: Summer Verg\, Survivorship Coordinator \nAttending In-Person \nIn-Person event takes place at Aspirus Cancer Care-Wausau\, 215 N 28th Ave. Wausau\, WI 54401. Event will begin at 10AM. Please park in cancer center parking lot. Signs will be placed just inside the cancer center entrance to guide you to the conference room. If you have questions\, please stop at the front desk for directions. \nAttending Virtually \nAfter registration\, you will receive an e-mail confirmation with the Microsoft Teams meeting link. Please refer to directions below. \nAccessing Microsoft Teams (if attending virtually) \n\n Check your e-mail address for registration confirmation\n Find the workshop invitation email and select “Join Meeting Now”\n Select “Continue on this browser”\n Select “Join now”
URL:https://cancersurvivorshipcare.org/event/survivorship-essentials-fitness-nutrition-and-meditation/
LOCATION:Aspirus Cancer Care-Wausau\, 215 N 28th Ave. Wausau\, WI 54401\, OR Virtually via Microsoft Teams
END:VEVENT
BEGIN:VEVENT
DTSTART;TZID=UTC:20250329T100000
DTEND;TZID=UTC:20250329T110000
DTSTAMP:20260422T145439
CREATED:20250208T064820Z
LAST-MODIFIED:20250218T060656Z
UID:1576-1743242400-1743246000@cancersurvivorshipcare.org
SUMMARY:Understanding Vitamins\, Supplements and Over the Counter Medication
DESCRIPTION:What You’ll Experience:\n• Guidance on choosing vitamins and supplements safely.\n• Tips for avoiding potential interactions with over-the-counter medications.\n• Practical advice on discussing supplements with your healthcare team. \nWho Should Attend?\nThis class is designed for cancer patients and loved ones who want to better understand the\nsafe use of vitamins\, supplements\, and over-the-counter medications. \nLed by: Aspirus Cancer Care-Pharmacy Team \nAttending In-Person\nIn-Person event takes place at Aspirus Cancer Care-Wausau\, 215 N 28th Ave. Wausau\, WI\n54401. Event will begin at 10AM. Please park in cancer center parking lot. Signs will be placed\njust inside the cancer center entrance to guide you to the conference room. If you have\nquestions\, please stop at the front desk for directions. \nAttending Virtually\nAfter registration\, you will receive an e-mail confirmation with the Microsoft Teams meeting link.\nPlease refer to directions below. \nAccessing Microsoft Teams (if attending virtually)\n1.Check your e-mail address for registration confirmation\n2.Find the workshop invitation email and select “Join Meeting Now ” \n3.Select “Continue on this browser”\n4. Select “Join now”
URL:https://cancersurvivorshipcare.org/event/understanding-vitamins-supplements-and-over-the-counter-medication/
LOCATION:Aspirus Cancer Care-Wausau\, 215 N 28th Ave. Wausau\, WI 54401\, OR Virtually via Microsoft Teams
END:VEVENT
BEGIN:VEVENT
DTSTART;TZID=UTC:20250327T100000
DTEND;TZID=UTC:20250327T110000
DTSTAMP:20260422T145439
CREATED:20250205T104311Z
LAST-MODIFIED:20250218T060710Z
UID:1549-1743069600-1743073200@cancersurvivorshipcare.org
SUMMARY:Nutrition for Side Effect Management
DESCRIPTION:Virtually via Microsoft Teams \nWhat You’ll Experience:  \n\nEvidence-based tips to manage common treatment side effects.\nEasy-to-follow meal ideas.\nParticipants will have the opportunity to ask questions and receive tailored advice to fit their unique needs.\n\n Who Should Attend?  \nThis workshop is designed for cancer patients and loved ones seeking practical nutrition strategies to support health during treatment. \nAttending In-Person \nIn-Person event takes place at Aspirus Cancer Care-Wausau\, 215 N 28th Ave. Wausau\, WI 54401. Event will begin at 10AM. Please park in cancer center parking lot. Signs will be placed just inside the cancer center entrance to guide you to the conference room. If you have questions\, please stop at the front desk for directions. \nAttending Virtually \nAfter registration\, you will receive an e-mail confirmation with the Microsoft Teams meeting link. Please refer to directions below. \nAccessing Microsoft Teams (if attending virtually) \n\n Check your e-mail address for registration confirmation\n Find the workshop invitation email and select “Join Meeting Now”\n Select “Continue on this browser”\n Select “Join now”\n\nCost: FREE
URL:https://cancersurvivorshipcare.org/event/nutrition-for-side-effect-management/
LOCATION:Aspirus Cancer Care-Wausau\, 215 N 28th Ave. Wausau\, WI 54401\, OR Virtually via Microsoft Teams
END:VEVENT
END:VCALENDAR